BEGIN:VCALENDAR
VERSION:2.0
PRODID:-//Filla - ECPv6.15.20//NONSGML v1.0//EN
CALSCALE:GREGORIAN
METHOD:PUBLISH
X-WR-CALNAME:Filla
X-ORIGINAL-URL:https://fillamontagnola.it
X-WR-CALDESC:Eventi per Filla
REFRESH-INTERVAL;VALUE=DURATION:PT1H
X-Robots-Tag:noindex
X-PUBLISHED-TTL:PT1H
BEGIN:VTIMEZONE
TZID:Europe/Rome
BEGIN:DAYLIGHT
TZOFFSETFROM:+0100
TZOFFSETTO:+0200
TZNAME:CEST
DTSTART:20250330T010000
END:DAYLIGHT
BEGIN:STANDARD
TZOFFSETFROM:+0200
TZOFFSETTO:+0100
TZNAME:CET
DTSTART:20251026T010000
END:STANDARD
BEGIN:DAYLIGHT
TZOFFSETFROM:+0100
TZOFFSETTO:+0200
TZNAME:CEST
DTSTART:20260329T010000
END:DAYLIGHT
BEGIN:STANDARD
TZOFFSETFROM:+0200
TZOFFSETTO:+0100
TZNAME:CET
DTSTART:20261025T010000
END:STANDARD
BEGIN:DAYLIGHT
TZOFFSETFROM:+0100
TZOFFSETTO:+0200
TZNAME:CEST
DTSTART:20270328T010000
END:DAYLIGHT
BEGIN:STANDARD
TZOFFSETFROM:+0200
TZOFFSETTO:+0100
TZNAME:CET
DTSTART:20271031T010000
END:STANDARD
END:VTIMEZONE
BEGIN:VEVENT
DTSTART;TZID=Europe/Rome:20260422T173000
DTEND;TZID=Europe/Rome:20260422T193000
DTSTAMP:20260422T110911
CREATED:20260415T145359Z
LAST-MODIFIED:20260415T145611Z
UID:10000040-1776879000-1776886200@fillamontagnola.it
SUMMARY:La notte in sicurezza: relazioni e responsabilità condivise
DESCRIPTION:Come si costruisce oggi la sicurezza nella notte?\nA questa domanda è dedicato l’incontro “La notte in sicurezza: relazioni e responsabilità condivise”. \nPromosso dal Comune di Bologna nell’ambito del Piano per la Notte\, l’appuntamento riunisce istituzioni\, operatori e cittadini  per approfondire un tema centrale per le città contemporanee: la sicurezza come risultato di un equilibrio tra gestione del rischio\, fiducia e responsabilità diffusa\, soprattutto nei contesti ad alta intensità sociale come locali ed eventi. \nInterverrà Franco Gabrielli\, ex Prefetto e oggi professor of practice alla SDA Bocconi\, con una riflessione sulla sicurezza come infrastruttura relazionale. Ad aprire i lavori saranno la Vicesindaca Emily Clancy e Matilde Madrid\, Assessora del Comune di Bologna con delega alla Sicurezza urbana integrata e protezione civile.\nL’incontro\, rivolto prioritariamente a chi gestisce locali notturni e manifestazioni\, è aperto al pubblico e rappresenta un’occasione di confronto per costruire una notte più sicura\, inclusiva e condivisa. \nScarica il programma
URL:https://fillamontagnola.it/event/la-notte-in-sicurezza-relazioni-e-responsabilita-condivise/
LOCATION:Auditorium
CATEGORIES:Incontri
ATTACH;FMTTYPE=image/jpeg:https://fillamontagnola.it/wp-content/uploads/2026/04/BDN_News_1920x1080.jpg
END:VEVENT
BEGIN:VEVENT
DTSTART;TZID=Europe/Rome:20260423T170000
DTEND;TZID=Europe/Rome:20260423T183000
DTSTAMP:20260422T110911
CREATED:20260415T085003Z
LAST-MODIFIED:20260415T150709Z
UID:10000039-1776963600-1776969000@fillamontagnola.it
SUMMARY:Una Montagnola di carte – La fontana circolare del Sarti e il verde di fine ‘800
DESCRIPTION:Primo appuntamento della terza edizione di Una Montagnola di carte\, la rassegna dedicata alla storia del parco della Montagnola attraverso i preziosi materiali dell’Archivio Storico del Comune di Bologna. \nIn questo incontro conosceremo la fontana monumentale ideata dallo scultore Diego Sarti\, con i suoi gruppi statuari di sirene e animali in lotta\, che fu collocata nel parco dopo le opere architettoniche realizzate alla fine dell’800 che interessarono anche il corredo vegetale. \nIntervengono: Mirtide Gavelli\, Ivan Bisetti e Mariateresa Guerra \nIngresso libero. \nMaggiori informazioni
URL:https://fillamontagnola.it/event/una-montagnola-di-carte-la-fontana-circolare-del-sarti-e-il-verde-di-fine-800/
LOCATION:Auditorium
CATEGORIES:Incontri
ATTACH;FMTTYPE=image/png:https://fillamontagnola.it/wp-content/uploads/2026/04/2026_Una-montagnola-di-carte_04_23_NEWSLETTER.png
END:VEVENT
BEGIN:VEVENT
DTSTART;TZID=Europe/Rome:20260424T163000
DTEND;TZID=Europe/Rome:20260424T193000
DTSTAMP:20260422T110911
CREATED:20260414T134124Z
LAST-MODIFIED:20260414T134124Z
UID:10000036-1777048200-1777059000@fillamontagnola.it
SUMMARY:Afternoon di Mörbidø
DESCRIPTION:Appuntamento speciale degli after_noon di morbido dedicato al 25 Aprile. Vigilia resistente con letture e voci speciali!\nLo spazio allestito è autogestito dalle famiglie\, puoi bere una cosa e ascoltare un po’ di buona musica mentre pargoli e pargole sono sotto il tuo sguardo vigile\, in un ambiente pensato per loro\, negli spazi esterni davanti il Filla Auditorium.
URL:https://fillamontagnola.it/event/afternoon-di-morbido-24-aprile/
LOCATION:Auditorium
CATEGORIES:Kids
END:VEVENT
BEGIN:VEVENT
DTSTART;TZID=Europe/Rome:20260424T180000
DTEND;TZID=Europe/Rome:20260424T220000
DTSTAMP:20260422T110911
CREATED:20260414T135345Z
LAST-MODIFIED:20260414T135345Z
UID:10000037-1777053600-1777068000@fillamontagnola.it
SUMMARY:Open Mic da FILLA
DESCRIPTION:Primo appuntamento di Open Mic da FILLA!\nPoche istruzioni da seguire:\n– L’Open Mic è libero e aperto a tutt3 (musicisti e non!)\n– Brano una cover o un brano inedito\n– Porta la tua base! oppure puoi suonarla live portando con te uno strumento\n– Il numero partecipanti è chiuso per questo consigliamo di arrivare 1 ora prima dell’evento per prenotarsi. \nE soprattutto: PORTA L3 TU3 AMIC3!
URL:https://fillamontagnola.it/event/open-mic-da-filla/
LOCATION:Auditorium
CATEGORIES:Musica e Spettacoli
END:VEVENT
BEGIN:VEVENT
DTSTART;TZID=Europe/Rome:20260425T170000
DTEND;TZID=Europe/Rome:20260425T233000
DTSTAMP:20260422T110911
CREATED:20260414T142545Z
LAST-MODIFIED:20260414T142630Z
UID:10000038-1777136400-1777159800@fillamontagnola.it
SUMMARY:LUME x Immersione
DESCRIPTION:Festa della Liberazione – 25 aprile  \nI due collettivi si uniscono per celebrare insieme una giornata importante di festa dal pomeriggio alla notte nel cuore verde del Parco della Montagnola. \nNasce una visione comune che propone un’esperienza sensoriale e immersiva\, attenta alla cura del contesto\, dell’atmosfera e dell’ambiente sonoro. \nL’Auditorium sarà amplificato dal sistema audio di BadBass Audio\, con base a Castel San Pietro Terme e attivo in diversi spazi della scena bolognese. \nMaggiori informazioni qui
URL:https://fillamontagnola.it/event/lume-x-immersione/
LOCATION:Auditorium
CATEGORIES:Musica e Spettacoli
END:VEVENT
BEGIN:VEVENT
DTSTART;TZID=Europe/Rome:20260426T113000
DTEND;TZID=Europe/Rome:20260426T130000
DTSTAMP:20260422T110911
CREATED:20260416T095931Z
LAST-MODIFIED:20260416T125631Z
UID:10000041-1777203000-1777208400@fillamontagnola.it
SUMMARY:CLASSICAdaFilla - Isabella Ricci
DESCRIPTION:Nuovo appuntamento di CLASSICAdaFilla\, sulle note del pianoforte di Isabella Ricci.\nPer l’occasione proporrà un repertorio classico con musiche di W. A. Mozart\, R. Schumann e F. Chopin. \nPrenota il tuo biglietto qui.
URL:https://fillamontagnola.it/event/classicadafilla-isabella-ricci/
LOCATION:Auditorium
CATEGORIES:Musica e Spettacoli
END:VEVENT
BEGIN:VEVENT
DTSTART;TZID=Europe/Rome:20260426T190000
DTEND;TZID=Europe/Rome:20260426T230000
DTSTAMP:20260422T110911
CREATED:20260416T100653Z
LAST-MODIFIED:20260416T100735Z
UID:10000042-1777230000-1777244400@fillamontagnola.it
SUMMARY:Gran Concerto Modernissimo - Swing Night
DESCRIPTION:Preparati ad entrare in un’altra epoca: una serata frizzante e travolgente a ritmo Swing anni ’30! \nSul palco arriva il Gran Concerto Modernissimo con uno spettacolo dal vivo energico\, irresistibile e senza tempo!\nDai Grandi Classici Italiani degli anni ’20 alle vibrazioni swing più colorate… non riuscirete a restare fermi nemmeno un secondo. \nMaggiori informazioni
URL:https://fillamontagnola.it/event/gran-concerto-modernissimo-swing-night/
CATEGORIES:Musica e Spettacoli
END:VEVENT
BEGIN:VEVENT
DTSTART;TZID=Europe/Rome:20260427T190000
DTEND;TZID=Europe/Rome:20260427T200000
DTSTAMP:20260422T110911
CREATED:20260324T104443Z
LAST-MODIFIED:20260324T104443Z
UID:10000023-1777316400-1777320000@fillamontagnola.it
SUMMARY:Vishuddha - Chakra della Gola | Percorso Chakra
DESCRIPTION:Una lezione dedicata alla consapevolezza della voce e della verità personale. \nIl quinto appuntamento del Percorso Chakra\, un ciclo di 7 incontri di yoga dedicato all’esplorazione dei principali centri energetici del corpo. Ogni lezione sarà dedicata a un chakra specifico e guiderà i partecipanti attraverso movimento\, respiro e presenza per sviluppare maggiore consapevolezza ed equilibrio interiore. \nUn percorso accessibile a tutti\, pensato come un viaggio attraverso il proprio “ponte arcobaleno” interiore\, dal radicamento alla connessione con sé stessi e con l’ambiente circostante. \nInsegnante Viola Spanu. \n\nTessera associativa Free Fitness obbligatoria (15€ valida 365gg)\nPrenotazione tramite app Sportclubby\nLe prenotazioni aprono ogni lunedì alle 9 per la lezione della settimana successiva.\nI posti sono limitati e alcune date potrebbero riempirsi velocemente. \nInfo:\n📱 WhatsApp: 3490609396 (Andrea)\n📧 andrean@freefitnessitalia.com
URL:https://fillamontagnola.it/event/vishuddha-chakra-della-gola-percorso-chakra/
LOCATION:Auditorium
CATEGORIES:Laboratori e Attività
ATTACH;FMTTYPE=image/jpeg:https://fillamontagnola.it/wp-content/uploads/2026/03/Free-Fitness_percorso_chakra_1-e1774348616857.jpg
END:VEVENT
BEGIN:VEVENT
DTSTART;TZID=Europe/Rome:20260429T090000
DTEND;TZID=Europe/Rome:20260429T100000
DTSTAMP:20260422T110911
CREATED:20260413T074548Z
LAST-MODIFIED:20260413T074920Z
UID:10000027-1777453200-1777456800@fillamontagnola.it
SUMMARY:Ginnastica dolce con Erica
DESCRIPTION:Gli incontri del mercoledì di Ginnastica Dolce sono dedicati alla promozione del benessere e del movimento per la popolazione over 65. \nLe lezioni propongono esercizi semplici e accessibili che aiutano a migliorare mobilità\, equilibrio\, coordinazione e consapevolezza del corpo. Attraverso movimenti dolci\, respirazione e momenti di socialità\, l’attività favorisce il mantenimento di uno stile di vita attivo e contribuisce al benessere fisico e mentale. \nLe attività sono pensate per essere adatte a tutti\, anche a persone con poca esperienza motoria o con mobilità ridotta. \nInformazioni utili\nLa partecipazione alle lezioni è gratuita\, ma è obbligatoria la tessera associativa Free Fitness (15 €\, valida 365 giorni\, acquistabile direttamente dall’app). \nPrenotazione delle lezioni tramite l’app Sportclubby. \nContatti\nWhatsApp: 349 060 9396\nEmail: andrean@freefitnessitalia.com
URL:https://fillamontagnola.it/event/ginnastica-dolce-con-erica/2026-04-29/
LOCATION:Auditorium
CATEGORIES:Laboratori e Attività
ATTACH;FMTTYPE=image/jpeg:https://fillamontagnola.it/wp-content/uploads/2026/04/grafica_ginnasticadolce_filla.jpeg
END:VEVENT
BEGIN:VEVENT
DTSTART;TZID=Europe/Rome:20260430T190000
DTEND;TZID=Europe/Rome:20260430T233000
DTSTAMP:20260422T110911
CREATED:20260416T101309Z
LAST-MODIFIED:20260416T101309Z
UID:10000043-1777575600-1777591800@fillamontagnola.it
SUMMARY:Deep Circuit Dj Set x Filla
DESCRIPTION:La vera protagonista in pista? La Musica House.\nUn flusso continuo di groove\, energia e vibrazioni. \nUna nuova avventura immersiva nel cuore della nostra città.
URL:https://fillamontagnola.it/event/deep-circuit-dj-set-x-filla/
CATEGORIES:Musica e Spettacoli
ATTACH;FMTTYPE=image/png:https://fillamontagnola.it/wp-content/uploads/2026/04/deepinfilla.png
END:VEVENT
BEGIN:VEVENT
DTSTART;TZID=Europe/Rome:20260504T190000
DTEND;TZID=Europe/Rome:20260504T200000
DTSTAMP:20260422T110911
CREATED:20260416T125946Z
LAST-MODIFIED:20260416T125946Z
UID:10000046-1777921200-1777924800@fillamontagnola.it
SUMMARY:Ajna - Chakra del Terzo Occhio | Percorso Chakra
DESCRIPTION:Una pratica orientata all’ascolto profondo e alla visione interiore. \nIl sesto appuntamento del Percorso Chakra\, un ciclo di 7 incontri di yoga dedicato all’esplorazione dei principali centri energetici del corpo. Ogni lezione sarà dedicata a un chakra specifico e guiderà i partecipanti attraverso movimento\, respiro e presenza per sviluppare maggiore consapevolezza ed equilibrio interiore. \nUn percorso accessibile a tutti\, pensato come un viaggio attraverso il proprio “ponte arcobaleno” interiore\, dal radicamento alla connessione con sé stessi e con l’ambiente circostante. \nInsegnante Viola Spanu. \n\nTessera associativa Free Fitness obbligatoria (15€ valida 365gg)\nPrenotazione tramite app Sportclubby\nLe prenotazioni aprono ogni lunedì alle 9 per la lezione della settimana successiva.\nI posti sono limitati e alcune date potrebbero riempirsi velocemente. \nInfo:\n📱 WhatsApp: 3490609396 (Andrea)\n📧 andrean@freefitnessitalia.com
URL:https://fillamontagnola.it/event/ajna-chakra-del-terzo-occhio-percorso-chakra/
LOCATION:Auditorium
CATEGORIES:Laboratori e Attività
ATTACH;FMTTYPE=image/jpeg:https://fillamontagnola.it/wp-content/uploads/2026/03/Free-Fitness_percorso_chakra_2-e1774348685532.jpg
END:VEVENT
BEGIN:VEVENT
DTSTART;TZID=Europe/Rome:20260506T090000
DTEND;TZID=Europe/Rome:20260506T100000
DTSTAMP:20260422T110911
CREATED:20260413T074548Z
LAST-MODIFIED:20260413T074920Z
UID:10000028-1778058000-1778061600@fillamontagnola.it
SUMMARY:Ginnastica dolce con Erica
DESCRIPTION:Gli incontri del mercoledì di Ginnastica Dolce sono dedicati alla promozione del benessere e del movimento per la popolazione over 65. \nLe lezioni propongono esercizi semplici e accessibili che aiutano a migliorare mobilità\, equilibrio\, coordinazione e consapevolezza del corpo. Attraverso movimenti dolci\, respirazione e momenti di socialità\, l’attività favorisce il mantenimento di uno stile di vita attivo e contribuisce al benessere fisico e mentale. \nLe attività sono pensate per essere adatte a tutti\, anche a persone con poca esperienza motoria o con mobilità ridotta. \nInformazioni utili\nLa partecipazione alle lezioni è gratuita\, ma è obbligatoria la tessera associativa Free Fitness (15 €\, valida 365 giorni\, acquistabile direttamente dall’app). \nPrenotazione delle lezioni tramite l’app Sportclubby. \nContatti\nWhatsApp: 349 060 9396\nEmail: andrean@freefitnessitalia.com
URL:https://fillamontagnola.it/event/ginnastica-dolce-con-erica/2026-05-06/
LOCATION:Auditorium
CATEGORIES:Laboratori e Attività
ATTACH;FMTTYPE=image/jpeg:https://fillamontagnola.it/wp-content/uploads/2026/04/grafica_ginnasticadolce_filla.jpeg
END:VEVENT
BEGIN:VEVENT
DTSTART;TZID=Europe/Rome:20260509T100000
DTEND;TZID=Europe/Rome:20260509T120000
DTSTAMP:20260422T110911
CREATED:20260324T104425Z
LAST-MODIFIED:20260324T104446Z
UID:10000024-1778320800-1778328000@fillamontagnola.it
SUMMARY:BOOM! Crescere nei libri - Tra le pieghe della natura
DESCRIPTION:Esplorazioni\, osservazioni e letture nel Parco della Montagnola\, accompagnate dalla creazione di piccoli libri a fisarmonica nel Lab di Filla.\nDai 5 ai 10 anni. \nIngresso libero su prenotazione: filla@fondazioneiu.it \nIniziativa promossa nell’ambito di BOOM! Crescere nei libri.
URL:https://fillamontagnola.it/event/tra-le-pieghe-della-natura/
CATEGORIES:Kids
ATTACH;FMTTYPE=image/png:https://fillamontagnola.it/wp-content/uploads/2026/03/Boom-2026_05_09_Filla_NEWSLETTER.png
END:VEVENT
BEGIN:VEVENT
DTSTART;TZID=Europe/Rome:20260511T190000
DTEND;TZID=Europe/Rome:20260511T200000
DTSTAMP:20260422T110911
CREATED:20260416T130319Z
LAST-MODIFIED:20260416T130319Z
UID:10000047-1778526000-1778529600@fillamontagnola.it
SUMMARY:Sahasrara - Chakra della Corona | Percorso Chakra
DESCRIPTION:Una pratica per integrare il percorso e ritrovare armonia. \nIl settimo e ultimo appuntamento del Percorso Chakra\, un ciclo di 7 incontri di yoga dedicato all’esplorazione dei principali centri energetici del corpo. Ogni lezione sarà dedicata a un chakra specifico e guiderà i partecipanti attraverso movimento\, respiro e presenza per sviluppare maggiore consapevolezza ed equilibrio interiore. \nUn percorso accessibile a tutti\, pensato come un viaggio attraverso il proprio “ponte arcobaleno” interiore\, dal radicamento alla connessione con sé stessi e con l’ambiente circostante. \nInsegnante Viola Spanu. \n\nTessera associativa Free Fitness obbligatoria (15€ valida 365gg)\nPrenotazione tramite app Sportclubby\nLe prenotazioni aprono ogni lunedì alle 9 per la lezione della settimana successiva.\nI posti sono limitati e alcune date potrebbero riempirsi velocemente. \nInfo:\n📱 WhatsApp: 3490609396 (Andrea)\n📧 andrean@freefitnessitalia.com
URL:https://fillamontagnola.it/event/sahasrara-chakra-della-corona-percorso-chakra/
LOCATION:Auditorium
CATEGORIES:Laboratori e Attività
ATTACH;FMTTYPE=image/jpeg:https://fillamontagnola.it/wp-content/uploads/2026/03/Free-Fitness_percorso_chakra_3-e1774348919870.jpg
END:VEVENT
BEGIN:VEVENT
DTSTART;TZID=Europe/Rome:20260513T090000
DTEND;TZID=Europe/Rome:20260513T100000
DTSTAMP:20260422T110911
CREATED:20260413T074548Z
LAST-MODIFIED:20260413T074920Z
UID:10000029-1778662800-1778666400@fillamontagnola.it
SUMMARY:Ginnastica dolce con Erica
DESCRIPTION:Gli incontri del mercoledì di Ginnastica Dolce sono dedicati alla promozione del benessere e del movimento per la popolazione over 65. \nLe lezioni propongono esercizi semplici e accessibili che aiutano a migliorare mobilità\, equilibrio\, coordinazione e consapevolezza del corpo. Attraverso movimenti dolci\, respirazione e momenti di socialità\, l’attività favorisce il mantenimento di uno stile di vita attivo e contribuisce al benessere fisico e mentale. \nLe attività sono pensate per essere adatte a tutti\, anche a persone con poca esperienza motoria o con mobilità ridotta. \nInformazioni utili\nLa partecipazione alle lezioni è gratuita\, ma è obbligatoria la tessera associativa Free Fitness (15 €\, valida 365 giorni\, acquistabile direttamente dall’app). \nPrenotazione delle lezioni tramite l’app Sportclubby. \nContatti\nWhatsApp: 349 060 9396\nEmail: andrean@freefitnessitalia.com
URL:https://fillamontagnola.it/event/ginnastica-dolce-con-erica/2026-05-13/
LOCATION:Auditorium
CATEGORIES:Laboratori e Attività
ATTACH;FMTTYPE=image/jpeg:https://fillamontagnola.it/wp-content/uploads/2026/04/grafica_ginnasticadolce_filla.jpeg
END:VEVENT
BEGIN:VEVENT
DTSTART;TZID=Europe/Rome:20260514T173000
DTEND;TZID=Europe/Rome:20260514T193000
DTSTAMP:20260422T110911
CREATED:20260416T105548Z
LAST-MODIFIED:20260420T065731Z
UID:10000045-1778779800-1778787000@fillamontagnola.it
SUMMARY:Esplorando il verde urbano #4 - A spasso per il Parco della Montagnola
DESCRIPTION:Un’oasi verde in città: una passeggiata storico-botanica nel parco per conoscere le principali specie arboree che lo arricchiscono e scoprire alcune curiosità storiche legate alla sua origine e trasformazione negli anni. \nAccompagna: Ivan Bisetti\, Fondazione IU Rusconi Ghigi \nA breve sarà disponibile il modulo di iscrizione. \nL’iniziativa è parte del ciclo Esplorando il verde urbano\, promosso da Fondazione IU Rusconi Ghigi e Comune di Bologna per rispondere agli obiettivi di Bologna Verde e si realizza nell’ambito del progetto europeo TALEA – Green cells leading the Green transition.
URL:https://fillamontagnola.it/event/esplorando-il-verde-urbano-lab-4-a-spasso-per-il-parco-della-montagnola/
LOCATION:Lab
CATEGORIES:Laboratori e Attività
END:VEVENT
BEGIN:VEVENT
DTSTART;TZID=Europe/Rome:20260516T100000
DTEND;TZID=Europe/Rome:20260516T110000
DTSTAMP:20260422T110911
CREATED:20260416T133047Z
LAST-MODIFIED:20260416T133414Z
UID:10000049-1778925600-1778929200@fillamontagnola.it
SUMMARY:Biodiversità degli insetti impollinatori: storie e immagini tra ricerca e territorio - Diverdeinverde
DESCRIPTION:Una conversazione a più voci sul tema e sulle ricerche in città. Con presentazione del libro fotografico divulgativo Di fiore in fiore. Api e altri insetti impollinatori\, Edizioni Belvedere 2026\, alla presenza dell’autrice Serena Magagnoli. \nL’iniziativa rientra nel ciclo di incontri Esplorando il verde urbano e nel programma di Diverdeinverde 2026\, la manifestazione che ogni anno\, a maggio\, apre i giardini privati e spesso segreti di Bologna e dintorni.
URL:https://fillamontagnola.it/event/biodiversita-degli-insetti-impollinatori-storie-e-immagini-tra-ricerca-e-territorio-diverdeinverde/
LOCATION:Auditorium
CATEGORIES:Incontri
ATTACH;FMTTYPE=image/png:https://fillamontagnola.it/wp-content/uploads/2026/04/Diverdeinverde-2026.png
END:VEVENT
BEGIN:VEVENT
DTSTART;TZID=Europe/Rome:20260516T120000
DTEND;TZID=Europe/Rome:20260516T160000
DTSTAMP:20260422T110911
CREATED:20260416T131652Z
LAST-MODIFIED:20260416T133924Z
UID:10000048-1778932800-1778947200@fillamontagnola.it
SUMMARY:Una collezione di storie vive - Diverdeinverde
DESCRIPTION:Un percorso espositivo di materiale iconografico storico e fotografie naturalistiche\, con la presenza di entomologi dell’Università di Bologna. \nTra fuori e dentro Filla LAB\, laboratori per bambine e bambine dedicati al mondo degli insetti. \nL’evento è inserito nel programma di Diverdeinverde 2026\, la manifestazione che ogni anno\, a maggio\, apre i giardini privati e spesso segreti di Bologna e dintorni.
URL:https://fillamontagnola.it/event/una-collezione-di-storie-vive-diverdeinverde/
LOCATION:Lab
CATEGORIES:Kids
ATTACH;FMTTYPE=image/png:https://fillamontagnola.it/wp-content/uploads/2026/04/Diverdeinverde-2026.png
END:VEVENT
BEGIN:VEVENT
DTSTART;TZID=Europe/Rome:20260520T090000
DTEND;TZID=Europe/Rome:20260520T100000
DTSTAMP:20260422T110911
CREATED:20260413T074548Z
LAST-MODIFIED:20260413T074920Z
UID:10000030-1779267600-1779271200@fillamontagnola.it
SUMMARY:Ginnastica dolce con Erica
DESCRIPTION:Gli incontri del mercoledì di Ginnastica Dolce sono dedicati alla promozione del benessere e del movimento per la popolazione over 65. \nLe lezioni propongono esercizi semplici e accessibili che aiutano a migliorare mobilità\, equilibrio\, coordinazione e consapevolezza del corpo. Attraverso movimenti dolci\, respirazione e momenti di socialità\, l’attività favorisce il mantenimento di uno stile di vita attivo e contribuisce al benessere fisico e mentale. \nLe attività sono pensate per essere adatte a tutti\, anche a persone con poca esperienza motoria o con mobilità ridotta. \nInformazioni utili\nLa partecipazione alle lezioni è gratuita\, ma è obbligatoria la tessera associativa Free Fitness (15 €\, valida 365 giorni\, acquistabile direttamente dall’app). \nPrenotazione delle lezioni tramite l’app Sportclubby. \nContatti\nWhatsApp: 349 060 9396\nEmail: andrean@freefitnessitalia.com
URL:https://fillamontagnola.it/event/ginnastica-dolce-con-erica/2026-05-20/
LOCATION:Auditorium
CATEGORIES:Laboratori e Attività
ATTACH;FMTTYPE=image/jpeg:https://fillamontagnola.it/wp-content/uploads/2026/04/grafica_ginnasticadolce_filla.jpeg
END:VEVENT
BEGIN:VEVENT
DTSTART;TZID=Europe/Rome:20260521T170000
DTEND;TZID=Europe/Rome:20260521T183000
DTSTAMP:20260422T110911
CREATED:20260416T104335Z
LAST-MODIFIED:20260416T104335Z
UID:10000044-1779382800-1779388200@fillamontagnola.it
SUMMARY:Una Montagnola di carte - San Benedetto 'disorientato'
DESCRIPTION:Secondo appuntamento della terza edizione di Una Montagnola di carte\, la rassegna dedicata alla storia del parco della Montagnola attraverso i preziosi materiali dell’Archivio Storico del Comune di Bologna. \nIn questo incontro andremo alla scoperta della chiesa di San Benedetto che\, fin dalla sua fondazione\, si affacciava su via Galliera e venne letteralmente capovolta a seguito dei lavori per l’apertura di via Indipendenza. \nInterviene: Maria Beatrice Bettazzi \nIngresso libero. \nMaggiori informazioni
URL:https://fillamontagnola.it/event/una-montagnola-di-carte-san-benedetto-disorientato/
LOCATION:Auditorium
CATEGORIES:Incontri
ATTACH;FMTTYPE=image/png:https://fillamontagnola.it/wp-content/uploads/2026/04/2026_Una-montagnola-di-carte_05_21_NEWSLETTER.png
END:VEVENT
BEGIN:VEVENT
DTSTART;TZID=Europe/Rome:20260527T090000
DTEND;TZID=Europe/Rome:20260527T100000
DTSTAMP:20260422T110911
CREATED:20260413T074548Z
LAST-MODIFIED:20260413T074920Z
UID:10000031-1779872400-1779876000@fillamontagnola.it
SUMMARY:Ginnastica dolce con Erica
DESCRIPTION:Gli incontri del mercoledì di Ginnastica Dolce sono dedicati alla promozione del benessere e del movimento per la popolazione over 65. \nLe lezioni propongono esercizi semplici e accessibili che aiutano a migliorare mobilità\, equilibrio\, coordinazione e consapevolezza del corpo. Attraverso movimenti dolci\, respirazione e momenti di socialità\, l’attività favorisce il mantenimento di uno stile di vita attivo e contribuisce al benessere fisico e mentale. \nLe attività sono pensate per essere adatte a tutti\, anche a persone con poca esperienza motoria o con mobilità ridotta. \nInformazioni utili\nLa partecipazione alle lezioni è gratuita\, ma è obbligatoria la tessera associativa Free Fitness (15 €\, valida 365 giorni\, acquistabile direttamente dall’app). \nPrenotazione delle lezioni tramite l’app Sportclubby. \nContatti\nWhatsApp: 349 060 9396\nEmail: andrean@freefitnessitalia.com
URL:https://fillamontagnola.it/event/ginnastica-dolce-con-erica/2026-05-27/
LOCATION:Auditorium
CATEGORIES:Laboratori e Attività
ATTACH;FMTTYPE=image/jpeg:https://fillamontagnola.it/wp-content/uploads/2026/04/grafica_ginnasticadolce_filla.jpeg
END:VEVENT
END:VCALENDAR